Name | Last modified | Size | Description | |
---|---|---|---|---|
Parent Directory | - | |||
install-out.txt | 14-Apr-2022 01:07 | 3.6K | ||
install-summary.dcf | 14-Apr-2022 01:07 | 658 | ||
buildsrc-out.txt | 14-Apr-2022 01:07 | 965 | ||
buildsrc-summary.dcf | 14-Apr-2022 01:07 | 467 | ||
checksrc-out.txt | 14-Apr-2022 01:07 | 5.1K | ||
checksrc-summary.dcf | 14-Apr-2022 01:07 | 470 | ||
buildbin-out.txt | 14-Apr-2022 01:07 | 2.7K | ||
buildbin-summary.dcf | 14-Apr-2022 01:07 | 551 | ||