Name | Last modified | Size | Description | |
---|---|---|---|---|
Parent Directory | - | |||
install-summary.dcf | 14-Apr-2022 01:05 | 263 | ||
install-out.txt | 14-Apr-2022 01:05 | 1.1K | ||
checksrc-summary.dcf | 14-Apr-2022 01:05 | 432 | ||
checksrc-out.txt | 14-Apr-2022 01:05 | 4.5K | ||
buildsrc-summary.dcf | 14-Apr-2022 01:05 | 423 | ||
buildsrc-out.txt | 14-Apr-2022 01:05 | 938 | ||