Back to Multiple platform build/check report for BioC 3.14
ABCDEFGHIJKLMNOPQR[S]TUVWXYZ

This page was generated on 2021-10-19 12:04:19 -0400 (Tue, 19 Oct 2021).

All results for package singscore

To the developers/maintainers of the singscore package:
- Please allow up to 24 hours (and sometimes 48 hours) for your latest push to git@git.bioconductor.org:packages/singscore.git to
reflect on this report. See How and When does the builder pull? When will my changes propagate? here for more information.
- Make sure to use the following settings in order to reproduce any error or warning you see on this page.

raw results

Package 1790/2060HostnameOS / ArchINSTALLBUILDCHECKBUILD BIN
singscore 1.13.1  (landing page)
Dharmesh D. Bhuva
Snapshot Date: 2021-10-18 14:50:10 -0400 (Mon, 18 Oct 2021)
git_url: https://git.bioconductor.org/packages/singscore
git_branch: master
git_last_commit: a892252
git_last_commit_date: 2021-06-01 18:42:35 -0400 (Tue, 01 Jun 2021)
nebbiolo2Linux (Ubuntu 20.04.2 LTS) / x86_64  OK    OK    OK  UNNEEDED, same version is already published
riesling1Windows Server 2019 Standard / x64  OK    OK    OK    OK  UNNEEDED, same version is already published
merida1macOS 10.14.6 Mojave / x86_64  OK    OK    OK    NA  

Results for Bioconductor software packages that depend directly on package singscore

QUICK STATSOS / ArchINSTALLBUILDCHECKBUILD BIN
nebbiolo2Linux (Ubuntu 20.04.2 LTS) / x86_64
001
001
0001
riesling1Windows Server 2019 Standard / x64
001
001
0001
001
merida1macOS 10.14.6 Mojave / x86_64
001
001
0001
000
Package 1/1HostnameOS / ArchINSTALLBUILDCHECKBUILD BIN
TBSignatureProfiler 1.5.14  (landing page)
Aubrey Odom
git_last_commit: 8fb176f
git_last_commit_date: 2021-09-29 17:23:12 -0400
nebbiolo2Linux (Ubuntu 20.04.2 LTS) / x86_64  OK    OK    OK  UNNEEDED, same version is already published
riesling1Windows Server 2019 Standard / x64  OK    OK    OK    OK  UNNEEDED, same version is already published
merida1macOS 10.14.6 Mojave / x86_64  OK    OK    OK    NA