Name | Last modified | Size | Description | |
---|---|---|---|---|
Parent Directory | - | |||
install-summary.dcf | 14-Apr-2022 01:07 | 661 | ||
install-out.txt | 14-Apr-2022 01:07 | 2.2K | ||
checksrc-summary.dcf | 14-Apr-2022 01:07 | 472 | ||
checksrc-out.txt | 14-Apr-2022 01:07 | 3.6K | ||
buildsrc-summary.dcf | 14-Apr-2022 01:07 | 468 | ||
buildsrc-out.txt | 14-Apr-2022 01:07 | 896 | ||
buildbin-summary.dcf | 14-Apr-2022 01:07 | 554 | ||
buildbin-out.txt | 14-Apr-2022 01:07 | 1.4K | ||