Name | Last modified | Size | Description | |
---|---|---|---|---|
Parent Directory | - | |||
checksrc-summary.dcf | 14-Apr-2022 01:05 | 434 | ||
checksrc-out.txt | 14-Apr-2022 01:05 | 3.0K | ||
buildsrc-summary.dcf | 14-Apr-2022 01:05 | 423 | ||
buildsrc-out.txt | 14-Apr-2022 01:05 | 857 | ||
install-summary.dcf | 14-Apr-2022 01:05 | 263 | ||
install-out.txt | 14-Apr-2022 01:05 | 956 | ||