Name | Last modified | Size | Description | |
---|---|---|---|---|
Parent Directory | - | |||
buildbin-summary.dcf | 14-Apr-2022 01:07 | 533 | ||
buildbin-out.txt | 14-Apr-2022 01:07 | 2.5K | ||
checksrc-summary.dcf | 14-Apr-2022 01:07 | 458 | ||
checksrc-out.txt | 14-Apr-2022 01:07 | 4.1K | ||
buildsrc-summary.dcf | 14-Apr-2022 01:07 | 455 | ||
buildsrc-out.txt | 14-Apr-2022 01:07 | 840 | ||
install-summary.dcf | 14-Apr-2022 01:07 | 631 | ||
install-out.txt | 14-Apr-2022 01:07 | 3.3K | ||