Name | Last modified | Size | Description | |
---|---|---|---|---|
Parent Directory | - | |||
checksrc-summary.dcf | 14-Apr-2022 01:05 | 420 | ||
checksrc-out.txt | 14-Apr-2022 01:05 | 3.5K | ||
buildsrc-summary.dcf | 14-Apr-2022 01:05 | 413 | ||
buildsrc-out.txt | 14-Apr-2022 01:05 | 802 | ||
install-summary.dcf | 14-Apr-2022 01:05 | 257 | ||
install-out.txt | 14-Apr-2022 01:05 | 1.0K | ||