Index of /checkResults/3.14/bioc-LATEST/scShapes/raw-results

[ICO]NameLast modifiedSizeDescription

[DIR]Parent Directory  -  
[   ]info.dcf15-Jan-2022 03:08 280  
[DIR]machv2/15-Jan-2022 03:08 -  
[DIR]nebbiolo2/15-Jan-2022 03:05 -  
[DIR]tokay2/15-Jan-2022 03:07 -