Name | Last modified | Size | Description | |
---|---|---|---|---|
Parent Directory | - | |||
buildbin-out.txt | 14-Apr-2022 01:07 | 40K | ||
buildbin-summary.dcf | 14-Apr-2022 01:07 | 534 | ||
buildsrc-out.txt | 14-Apr-2022 01:07 | 932 | ||
buildsrc-summary.dcf | 14-Apr-2022 01:07 | 455 | ||
checksrc-out.txt | 14-Apr-2022 01:07 | 6.8K | ||
checksrc-summary.dcf | 14-Apr-2022 01:07 | 491 | ||
install-out.txt | 14-Apr-2022 01:07 | 40K | ||
install-summary.dcf | 14-Apr-2022 01:07 | 632 | ||