Name | Last modified | Size | Description | |
---|---|---|---|---|
Parent Directory | - | |||
install-summary.dcf | 14-Apr-2022 01:08 | 263 | ||
install-out.txt | 14-Apr-2022 01:08 | 971 | ||
checksrc-summary.dcf | 14-Apr-2022 01:08 | 432 | ||
checksrc-out.txt | 14-Apr-2022 01:08 | 3.9K | ||
buildsrc-summary.dcf | 14-Apr-2022 01:08 | 418 | ||
buildsrc-out.txt | 14-Apr-2022 01:08 | 804 | ||
buildbin-summary.dcf | 14-Apr-2022 01:08 | 512 | ||
buildbin-out.txt | 14-Apr-2022 01:08 | 1.1K | ||