Name | Last modified | Size | Description | |
---|---|---|---|---|
Parent Directory | - | |||
buildsrc-out.txt | 14-Apr-2022 01:07 | 1.1K | ||
buildsrc-summary.dcf | 14-Apr-2022 01:07 | 361 | ||
install-summary.dcf | 14-Apr-2022 01:07 | 598 | ||
install-out.txt | 14-Apr-2022 01:07 | 2.3K | ||
buildbin-summary.dcf | 12-Apr-2022 01:06 | 512 | ||
buildbin-out.txt | 12-Apr-2022 01:06 | 1.6K | ||
checksrc-summary.dcf | 12-Apr-2022 01:06 | 448 | ||
checksrc-out.txt | 12-Apr-2022 01:06 | 6.0K | ||