![]() | Name | Last modified | Size | Description |
---|---|---|---|---|
![]() | Parent Directory | - | ||
![]() | install-summary.dcf | 14-Apr-2022 01:08 | 259 | |
![]() | install-out.txt | 14-Apr-2022 01:08 | 960 | |
![]() | checksrc-summary.dcf | 14-Apr-2022 01:08 | 426 | |
![]() | checksrc-out.txt | 14-Apr-2022 01:08 | 3.1K | |
![]() | buildsrc-summary.dcf | 14-Apr-2022 01:08 | 413 | |
![]() | buildsrc-out.txt | 14-Apr-2022 01:08 | 799 | |
![]() | buildbin-summary.dcf | 14-Apr-2022 01:08 | 503 | |
![]() | buildbin-out.txt | 14-Apr-2022 01:08 | 1.1K | |