Name | Last modified | Size | Description | |
---|---|---|---|---|
Parent Directory | - | |||
buildbin-summary.dcf | 14-Apr-2022 01:07 | 551 | ||
buildbin-out.txt | 14-Apr-2022 01:07 | 1.7K | ||
checksrc-summary.dcf | 14-Apr-2022 01:07 | 469 | ||
checksrc-out.txt | 14-Apr-2022 01:07 | 3.5K | ||
buildsrc-summary.dcf | 14-Apr-2022 01:07 | 464 | ||
buildsrc-out.txt | 14-Apr-2022 01:07 | 915 | ||
install-summary.dcf | 14-Apr-2022 01:07 | 658 | ||
install-out.txt | 14-Apr-2022 01:07 | 2.6K | ||