Name | Last modified | Size | Description | |
---|---|---|---|---|
Parent Directory | - | |||
buildsrc-summary.dcf | 14-Apr-2022 01:07 | 454 | ||
checksrc-summary.dcf | 14-Apr-2022 01:07 | 464 | ||
buildbin-summary.dcf | 14-Apr-2022 01:07 | 533 | ||
install-summary.dcf | 14-Apr-2022 01:07 | 632 | ||
buildsrc-out.txt | 14-Apr-2022 01:07 | 872 | ||
buildbin-out.txt | 14-Apr-2022 01:07 | 4.7K | ||
install-out.txt | 14-Apr-2022 01:07 | 5.4K | ||
checksrc-out.txt | 14-Apr-2022 01:07 | 5.7K | ||