Name | Last modified | Size | Description | |
---|---|---|---|---|
Parent Directory | - | |||
buildbin-out.txt | 14-Apr-2022 01:07 | 1.5K | ||
buildbin-summary.dcf | 14-Apr-2022 01:07 | 560 | ||
buildsrc-out.txt | 14-Apr-2022 01:07 | 903 | ||
buildsrc-summary.dcf | 14-Apr-2022 01:07 | 478 | ||
checksrc-out.txt | 14-Apr-2022 01:07 | 5.8K | ||
checksrc-summary.dcf | 14-Apr-2022 01:07 | 484 | ||
install-out.txt | 14-Apr-2022 01:07 | 1.4K | ||
install-summary.dcf | 14-Apr-2022 01:07 | 304 | ||