Index of /checkResults/3.14/bioc-LATEST/pogos/raw-results/tokay2
Name
Last modified
Size
Description
Parent Directory
-
buildsrc-out.txt
14-Apr-2022 01:07
1.0K
buildsrc-summary.dcf
14-Apr-2022 01:07
368
install-out.txt
14-Apr-2022 01:07
2.8K
install-summary.dcf
14-Apr-2022 01:07
622