Name | Last modified | Size | Description | |
---|---|---|---|---|
Parent Directory | - | |||
buildbin-out.txt | 14-Apr-2022 01:07 | 12K | ||
buildbin-summary.dcf | 14-Apr-2022 01:07 | 533 | ||
buildsrc-out.txt | 14-Apr-2022 01:07 | 932 | ||
buildsrc-summary.dcf | 14-Apr-2022 01:07 | 454 | ||
checksrc-out.txt | 14-Apr-2022 01:07 | 5.9K | ||
checksrc-summary.dcf | 14-Apr-2022 01:07 | 458 | ||
install-out.txt | 14-Apr-2022 01:07 | 13K | ||
install-summary.dcf | 14-Apr-2022 01:07 | 632 | ||