Name | Last modified | Size | Description | |
---|---|---|---|---|
Parent Directory | - | |||
buildbin-out.txt | 14-Apr-2022 01:08 | 4.2K | ||
buildbin-summary.dcf | 14-Apr-2022 01:08 | 517 | ||
buildsrc-out.txt | 14-Apr-2022 01:08 | 751 | ||
buildsrc-summary.dcf | 14-Apr-2022 01:08 | 420 | ||
checksrc-out.txt | 14-Apr-2022 01:08 | 4.1K | ||
checksrc-summary.dcf | 14-Apr-2022 01:08 | 441 | ||
install-out.txt | 14-Apr-2022 01:08 | 3.4K | ||
install-summary.dcf | 14-Apr-2022 01:08 | 264 | ||