Name | Last modified | Size | Description | |
---|---|---|---|---|
Parent Directory | - | |||
checksrc-out.txt | 14-Dec-2021 03:06 | 4.5K | ||
buildbin-out.txt | 14-Dec-2021 03:06 | 1.2K | ||
install-out.txt | 14-Apr-2022 01:08 | 1.0K | ||
buildsrc-out.txt | 14-Apr-2022 01:08 | 665 | ||
buildbin-summary.dcf | 14-Dec-2021 03:06 | 554 | ||
checksrc-summary.dcf | 14-Dec-2021 03:06 | 459 | ||
buildsrc-summary.dcf | 14-Apr-2022 01:08 | 358 | ||
install-summary.dcf | 14-Apr-2022 01:08 | 277 | ||