Back to Multiple platform build/check report for BioC 3.14
ABCDEFGHIJKLMNO[P]QRSTUVWXYZ

This page was generated on 2022-01-17 13:04:31 -0500 (Mon, 17 Jan 2022).

HostnameOSArch (*)R versionInstalled pkgs
nebbiolo2Linux (Ubuntu 20.04.4 LTS)x86_644.1.2 (2021-11-01) -- "Bird Hippie" 4328
tokay2Windows Server 2012 R2 Standardx644.1.2 (2021-11-01) -- "Bird Hippie" 4077
machv2macOS 10.14.6 Mojavex86_644.1.2 (2021-11-01) -- "Bird Hippie" 4138
Click on any hostname to see more info about the system (e.g. compilers)      (*) as reported by 'uname -p', except on Windows and Mac OS X

All results for package phyloseq


To the developers/maintainers of the phyloseq package:
- Please allow up to 24 hours (and sometimes 48 hours) for your latest push to git@git.bioconductor.org:packages/phyloseq.git to
reflect on this report. See How and When does the builder pull? When will my changes propagate? here for more information.
- Make sure to use the following settings in order to reproduce any error or warning you see on this page.

raw results

Package 1415/2083HostnameOS / ArchINSTALLBUILDCHECKBUILD BIN
phyloseq 1.38.0  (landing page)
Paul J. McMurdie
Snapshot Date: 2022-01-16 01:55:05 -0500 (Sun, 16 Jan 2022)
git_url: https://git.bioconductor.org/packages/phyloseq
git_branch: RELEASE_3_14
git_last_commit: 1e2409a
git_last_commit_date: 2021-10-26 12:01:53 -0500 (Tue, 26 Oct 2021)
nebbiolo2Linux (Ubuntu 20.04.4 LTS) / x86_64  OK    OK    OK  UNNEEDED, same version is already published
tokay2Windows Server 2012 R2 Standard / x64  OK    OK    OK    OK  UNNEEDED, same version is already published
machv2macOS 10.14.6 Mojave / x86_64  OK    OK    OK    OK  UNNEEDED, same version is already published

Results for Bioconductor software packages that depend directly on package phyloseq

QUICK STATSOS / ArchINSTALLBUILDCHECKBUILD BIN
nebbiolo2Linux (Ubuntu 20.04.4 LTS) / x86_64
0114
0114
00014
tokay2Windows Server 2012 R2 Standard / x64
0114
0114
01013
0014
machv2macOS 10.14.6 Mojave / x86_64
0114
0114
00014
0014
Package 1/15HostnameOS / ArchINSTALLBUILDCHECKBUILD BIN
ANCOMBC 1.4.0  (landing page)
Huang Lin
git_last_commit: b9a7fb1
git_last_commit_date: 2021-10-26 13:02:30 -0500
nebbiolo2Linux (Ubuntu 20.04.4 LTS) / x86_64  OK    OK    OK  UNNEEDED, same version is already published
tokay2Windows Server 2012 R2 Standard / x64  OK    OK    OK    OK  UNNEEDED, same version is already published
machv2macOS 10.14.6 Mojave / x86_64  OK    OK    OK    OK  UNNEEDED, same version is already published
Package 2/15HostnameOS / ArchINSTALLBUILDCHECKBUILD BIN
benchdamic 1.0.0  (landing page)
Matteo Calgaro
git_last_commit: 5175773
git_last_commit_date: 2021-10-26 13:13:35 -0500
nebbiolo2Linux (Ubuntu 20.04.4 LTS) / x86_64  OK    OK    OK  UNNEEDED, same version is already published
tokay2Windows Server 2012 R2 Standard / x64  OK    OK    ERROR    OK  
machv2macOS 10.14.6 Mojave / x86_64  OK    OK    OK    OK  UNNEEDED, same version is already published
Package 3/15HostnameOS / ArchINSTALLBUILDCHECKBUILD BIN
combi 1.6.0  (landing page)
Joris Meys
git_last_commit: dcf1756
git_last_commit_date: 2021-10-26 12:58:09 -0500
nebbiolo2Linux (Ubuntu 20.04.4 LTS) / x86_64  OK    OK    OK  UNNEEDED, same version is already published
tokay2Windows Server 2012 R2 Standard / x64  OK    OK    OK    OK  UNNEEDED, same version is already published
machv2macOS 10.14.6 Mojave / x86_64  OK    OK    OK    OK  UNNEEDED, same version is already published
Package 4/15HostnameOS / ArchINSTALLBUILDCHECKBUILD BIN
gramm4R 1.8.0  (landing page)
Tianlu Chen
git_last_commit: 2092bff
git_last_commit_date: 2021-10-26 12:53:54 -0500
nebbiolo2Linux (Ubuntu 20.04.4 LTS) / x86_64  ERROR    ERROR  skipped
tokay2Windows Server 2012 R2 Standard / x64  ERROR    ERROR  skippedskipped
machv2macOS 10.14.6 Mojave / x86_64  ERROR    ERROR  skippedskipped
Package 5/15HostnameOS / ArchINSTALLBUILDCHECKBUILD BIN
metavizr 1.18.0  (landing page)
Hector Corrada Bravo
git_last_commit: e961e56
git_last_commit_date: 2021-10-26 12:34:56 -0500
nebbiolo2Linux (Ubuntu 20.04.4 LTS) / x86_64  OK    OK    OK  UNNEEDED, same version is already published
tokay2Windows Server 2012 R2 Standard / x64  OK    OK    OK    OK  UNNEEDED, same version is already published
machv2macOS 10.14.6 Mojave / x86_64  OK    OK    OK    OK  UNNEEDED, same version is already published
Package 6/15HostnameOS / ArchINSTALLBUILDCHECKBUILD BIN
microbiome 1.16.0  (landing page)
Leo Lahti
git_last_commit: a7b74b7
git_last_commit_date: 2021-10-26 12:37:27 -0500
nebbiolo2Linux (Ubuntu 20.04.4 LTS) / x86_64  OK    OK    OK  UNNEEDED, same version is already published
tokay2Windows Server 2012 R2 Standard / x64  OK    OK    OK    OK  UNNEEDED, same version is already published
machv2macOS 10.14.6 Mojave / x86_64  OK    OK    OK    OK  UNNEEDED, same version is already published
Package 7/15HostnameOS / ArchINSTALLBUILDCHECKBUILD BIN
microbiomeDASim 1.8.0  (landing page)
Justin Williams
git_last_commit: d52287e
git_last_commit_date: 2021-10-26 12:54:01 -0500
nebbiolo2Linux (Ubuntu 20.04.4 LTS) / x86_64  OK    OK    OK  UNNEEDED, same version is already published
tokay2Windows Server 2012 R2 Standard / x64  OK    OK    OK    OK  UNNEEDED, same version is already published
machv2macOS 10.14.6 Mojave / x86_64  OK    OK    OK    OK  UNNEEDED, same version is already published
Package 8/15HostnameOS / ArchINSTALLBUILDCHECKBUILD BIN
microbiomeMarker 1.0.1  (landing page)
Yang Cao
git_last_commit: d4852b9
git_last_commit_date: 2021-11-08 03:46:16 -0500
nebbiolo2Linux (Ubuntu 20.04.4 LTS) / x86_64  OK    OK    OK  UNNEEDED, same version is already published
tokay2Windows Server 2012 R2 Standard / x64  OK    OK    OK    OK  UNNEEDED, same version is already published
machv2macOS 10.14.6 Mojave / x86_64  OK    OK    OK    OK  UNNEEDED, same version is already published
Package 9/15HostnameOS / ArchINSTALLBUILDCHECKBUILD BIN
PathoStat 1.20.0  (landing page)
Solaiappan Manimaran
git_last_commit: 468d049
git_last_commit_date: 2021-10-26 12:30:40 -0500
nebbiolo2Linux (Ubuntu 20.04.4 LTS) / x86_64  OK    OK    OK  UNNEEDED, same version is already published
tokay2Windows Server 2012 R2 Standard / x64  OK    OK    OK    OK  UNNEEDED, same version is already published
machv2macOS 10.14.6 Mojave / x86_64  OK    OK    OK    OK  UNNEEDED, same version is already published
Package 10/15HostnameOS / ArchINSTALLBUILDCHECKBUILD BIN
PERFect 1.8.0  (landing page)
Quy Cao
git_last_commit: f35aedd
git_last_commit_date: 2021-10-26 12:54:58 -0500
nebbiolo2Linux (Ubuntu 20.04.4 LTS) / x86_64  OK    OK    OK  UNNEEDED, same version is already published
tokay2Windows Server 2012 R2 Standard / x64  OK    OK    OK    OK  UNNEEDED, same version is already published
machv2macOS 10.14.6 Mojave / x86_64  OK    OK    OK    OK  UNNEEDED, same version is already published
Package 11/15HostnameOS / ArchINSTALLBUILDCHECKBUILD BIN
RCM 1.10.0  (landing page)
Joris Meys
git_last_commit: a753919
git_last_commit_date: 2021-10-26 12:48:50 -0500
nebbiolo2Linux (Ubuntu 20.04.4 LTS) / x86_64  OK    OK    OK  UNNEEDED, same version is already published
tokay2Windows Server 2012 R2 Standard / x64  OK    OK    OK    OK  UNNEEDED, same version is already published
machv2macOS 10.14.6 Mojave / x86_64  OK    OK    OK    OK  UNNEEDED, same version is already published
Package 12/15HostnameOS / ArchINSTALLBUILDCHECKBUILD BIN
reconsi 1.6.0  (landing page)
Joris Meys
git_last_commit: 353b8ef
git_last_commit_date: 2021-10-26 12:56:54 -0500
nebbiolo2Linux (Ubuntu 20.04.4 LTS) / x86_64  OK    OK    OK  UNNEEDED, same version is already published
tokay2Windows Server 2012 R2 Standard / x64  OK    OK    OK    OK  UNNEEDED, same version is already published
machv2macOS 10.14.6 Mojave / x86_64  OK    OK    OK    OK  UNNEEDED, same version is already published
Package 13/15HostnameOS / ArchINSTALLBUILDCHECKBUILD BIN
RPA 1.50.0  (landing page)
Leo Lahti
git_last_commit: 1306d67
git_last_commit_date: 2021-10-26 11:54:13 -0500
nebbiolo2Linux (Ubuntu 20.04.4 LTS) / x86_64  OK    OK    OK  UNNEEDED, same version is already published
tokay2Windows Server 2012 R2 Standard / x64  OK    OK    OK    OK  UNNEEDED, same version is already published
machv2macOS 10.14.6 Mojave / x86_64  OK    OK    OK    OK  UNNEEDED, same version is already published
Package 14/15HostnameOS / ArchINSTALLBUILDCHECKBUILD BIN
SIAMCAT 1.14.0  (landing page)
Jakob Wirbel
git_last_commit: 596ef06
git_last_commit_date: 2021-10-26 12:44:50 -0500
nebbiolo2Linux (Ubuntu 20.04.4 LTS) / x86_64  OK    OK    OK  UNNEEDED, same version is already published
tokay2Windows Server 2012 R2 Standard / x64  OK    OK    OK    OK  UNNEEDED, same version is already published
machv2macOS 10.14.6 Mojave / x86_64  OK    OK    OK    OK  UNNEEDED, same version is already published
Package 15/15HostnameOS / ArchINSTALLBUILDCHECKBUILD BIN
SPsimSeq 1.4.0  (landing page)
Joris Meys
git_last_commit: abaa3d8
git_last_commit_date: 2021-10-26 13:00:21 -0500
nebbiolo2Linux (Ubuntu 20.04.4 LTS) / x86_64  OK    OK    OK  UNNEEDED, same version is already published
tokay2Windows Server 2012 R2 Standard / x64  OK    OK    OK    OK  UNNEEDED, same version is already published
machv2macOS 10.14.6 Mojave / x86_64  OK    OK    OK    OK  UNNEEDED, same version is already published