Name | Last modified | Size | Description | |
---|---|---|---|---|
Parent Directory | - | |||
buildbin-out.txt | 14-Apr-2022 01:07 | 2.0K | ||
buildbin-summary.dcf | 14-Apr-2022 01:07 | 559 | ||
buildsrc-out.txt | 14-Apr-2022 01:07 | 924 | ||
buildsrc-summary.dcf | 14-Apr-2022 01:07 | 473 | ||
checksrc-out.txt | 14-Apr-2022 01:07 | 4.2K | ||
checksrc-summary.dcf | 14-Apr-2022 01:07 | 476 | ||
install-out.txt | 14-Apr-2022 01:07 | 2.8K | ||
install-summary.dcf | 14-Apr-2022 01:07 | 670 | ||