Name | Last modified | Size | Description | |
---|---|---|---|---|
Parent Directory | - | |||
install-summary.dcf | 14-Apr-2022 01:05 | 256 | ||
buildsrc-summary.dcf | 14-Apr-2022 01:05 | 412 | ||
checksrc-summary.dcf | 14-Apr-2022 01:05 | 417 | ||
buildsrc-out.txt | 14-Apr-2022 01:05 | 841 | ||
install-out.txt | 14-Apr-2022 01:05 | 944 | ||
checksrc-out.txt | 14-Apr-2022 01:05 | 3.1K | ||