Name | Last modified | Size | Description | |
---|---|---|---|---|
Parent Directory | - | |||
install-summary.dcf | 14-Apr-2022 01:08 | 266 | ||
buildsrc-summary.dcf | 14-Apr-2022 01:08 | 423 | ||
checksrc-summary.dcf | 14-Apr-2022 01:08 | 438 | ||
buildbin-summary.dcf | 14-Apr-2022 01:08 | 521 | ||
buildsrc-out.txt | 14-Apr-2022 01:08 | 851 | ||
install-out.txt | 14-Apr-2022 01:08 | 1.0K | ||
buildbin-out.txt | 14-Apr-2022 01:08 | 1.1K | ||
checksrc-out.txt | 14-Apr-2022 01:08 | 3.1K | ||