Name | Last modified | Size | Description | |
---|---|---|---|---|
Parent Directory | - | |||
buildbin-out.txt | 14-Apr-2022 01:08 | 2.9K | ||
buildbin-summary.dcf | 14-Apr-2022 01:08 | 566 | ||
buildsrc-out.txt | 14-Apr-2022 01:08 | 1.1K | ||
buildsrc-summary.dcf | 14-Apr-2022 01:08 | 445 | ||
checksrc-out.txt | 14-Apr-2022 01:08 | 7.5K | ||
checksrc-summary.dcf | 14-Apr-2022 01:08 | 468 | ||
install-out.txt | 14-Apr-2022 01:08 | 2.0K | ||
install-summary.dcf | 14-Apr-2022 01:08 | 281 | ||