Back to Multiple platform build/check report for BioC 3.14
ABCDEFGHIJKLMNO[P]QRSTUVWXYZ

This page was generated on 2021-11-29 15:04:37 -0500 (Mon, 29 Nov 2021).

All results for package pcaMethods

To the developers/maintainers of the pcaMethods package:
- Please allow up to 24 hours (and sometimes 48 hours) for your latest push to git@git.bioconductor.org:packages/pcaMethods.git to
reflect on this report. See How and When does the builder pull? When will my changes propagate? here for more information.
- Make sure to use the following settings in order to reproduce any error or warning you see on this page.

raw results

Package 1384/2083HostnameOS / ArchINSTALLBUILDCHECKBUILD BIN
pcaMethods 1.86.0  (landing page)
Henning Redestig
Snapshot Date: 2021-11-28 04:15:06 -0500 (Sun, 28 Nov 2021)
git_url: https://git.bioconductor.org/packages/pcaMethods
git_branch: RELEASE_3_14
git_last_commit: 9419cfa
git_last_commit_date: 2021-10-26 11:50:24 -0500 (Tue, 26 Oct 2021)
nebbiolo2Linux (Ubuntu 20.04.3 LTS) / x86_64  OK    OK    OK  UNNEEDED, same version is already published
tokay2Windows Server 2012 R2 Standard / x64  OK    OK    OK    OK  UNNEEDED, same version is already published
machv2macOS 10.14.6 Mojave / x86_64  OK    OK    OK    OK  UNNEEDED, same version is already published

Results for Bioconductor software packages that depend directly on package pcaMethods

QUICK STATSOS / ArchINSTALLBUILDCHECKBUILD BIN
nebbiolo2Linux (Ubuntu 20.04.3 LTS) / x86_64
0115
0214
01211
tokay2Windows Server 2012 R2 Standard / x64
0115
0115
01311
0015
machv2macOS 10.14.6 Mojave / x86_64
0115
0214
01211
0014
Package 1/16HostnameOS / ArchINSTALLBUILDCHECKBUILD BIN
autonomics 1.2.0  (landing page)
Aditya Bhagwat
git_last_commit: f775f33
git_last_commit_date: 2021-10-26 13:07:36 -0500
nebbiolo2Linux (Ubuntu 20.04.3 LTS) / x86_64  OK    OK    WARNINGS  UNNEEDED, same version is already published
tokay2Windows Server 2012 R2 Standard / x64  OK    OK    WARNINGS    OK  UNNEEDED, same version is already published
machv2macOS 10.14.6 Mojave / x86_64  OK    OK    WARNINGS    OK  UNNEEDED, same version is already published
Package 2/16HostnameOS / ArchINSTALLBUILDCHECKBUILD BIN
consensusDE 1.12.0  (landing page)
Ashley J. Waardenberg
git_last_commit: 935d9e9
git_last_commit_date: 2021-10-26 12:47:51 -0500
nebbiolo2Linux (Ubuntu 20.04.3 LTS) / x86_64  OK    OK    OK  UNNEEDED, same version is already published
tokay2Windows Server 2012 R2 Standard / x64  OK    OK    OK    OK  UNNEEDED, same version is already published
machv2macOS 10.14.6 Mojave / x86_64  OK    OK    OK    OK  UNNEEDED, same version is already published
Package 3/16HostnameOS / ArchINSTALLBUILDCHECKBUILD BIN
DAPAR 1.26.1  (landing page)
Samuel Wieczorek
git_last_commit: 9232810
git_last_commit_date: 2021-11-22 00:55:42 -0500
nebbiolo2Linux (Ubuntu 20.04.3 LTS) / x86_64  OK    OK    OK  UNNEEDED, same version is already published
tokay2Windows Server 2012 R2 Standard / x64  OK    OK    OK    OK  UNNEEDED, same version is already published
machv2macOS 10.14.6 Mojave / x86_64  OK    OK    OK    OK  UNNEEDED, same version is already published
Package 4/16HostnameOS / ArchINSTALLBUILDCHECKBUILD BIN
DeconRNASeq 1.36.0  (landing page)
Ting Gong
git_last_commit: ca5cb97
git_last_commit_date: 2021-10-26 12:04:43 -0500
nebbiolo2Linux (Ubuntu 20.04.3 LTS) / x86_64  OK    OK    OK  UNNEEDED, same version is already published
tokay2Windows Server 2012 R2 Standard / x64  OK    OK    OK    OK  UNNEEDED, same version is already published
machv2macOS 10.14.6 Mojave / x86_64  OK    OK    OK    OK  UNNEEDED, same version is already published
Package 5/16HostnameOS / ArchINSTALLBUILDCHECKBUILD BIN
destiny 3.8.0  (landing page)
Philipp Angerer
git_last_commit: 5ef9e39
git_last_commit_date: 2021-10-26 12:21:46 -0500
nebbiolo2Linux (Ubuntu 20.04.3 LTS) / x86_64  OK    ERROR  skipped
tokay2Windows Server 2012 R2 Standard / x64  OK    OK    WARNINGS    OK  UNNEEDED, same version is already published
machv2macOS 10.14.6 Mojave / x86_64  OK    ERROR  skippedskipped
Package 6/16HostnameOS / ArchINSTALLBUILDCHECKBUILD BIN
FRASER 1.6.0  (landing page)
Christian Mertes
git_last_commit: fa070e3
git_last_commit_date: 2021-10-26 12:59:14 -0500
nebbiolo2Linux (Ubuntu 20.04.3 LTS) / x86_64  OK    OK    OK  UNNEEDED, same version is already published
tokay2Windows Server 2012 R2 Standard / x64  OK    OK    OK    OK  UNNEEDED, same version is already published
machv2macOS 10.14.6 Mojave / x86_64  OK    OK    OK    OK  UNNEEDED, same version is already published
Package 7/16HostnameOS / ArchINSTALLBUILDCHECKBUILD BIN
MAI 1.0.0  (landing page)
Jonathan Dekermanjian
git_last_commit: 0953c88
git_last_commit_date: 2021-10-26 13:11:41 -0500
nebbiolo2Linux (Ubuntu 20.04.3 LTS) / x86_64  OK    OK    OK  UNNEEDED, same version is already published
tokay2Windows Server 2012 R2 Standard / x64  OK    OK    OK    OK  UNNEEDED, same version is already published
machv2macOS 10.14.6 Mojave / x86_64  OK    OK    OK    OK  UNNEEDED, same version is already published
Package 8/16HostnameOS / ArchINSTALLBUILDCHECKBUILD BIN
MatrixQCvis 1.2.0  (landing page)
Thomas Naake
git_last_commit: fba275b
git_last_commit_date: 2021-10-26 13:09:52 -0500
nebbiolo2Linux (Ubuntu 20.04.3 LTS) / x86_64  OK    OK    OK  UNNEEDED, same version is already published
tokay2Windows Server 2012 R2 Standard / x64  OK    OK    OK    OK  UNNEEDED, same version is already published
machv2macOS 10.14.6 Mojave / x86_64  OK    OK    OK    OK  UNNEEDED, same version is already published
Package 9/16HostnameOS / ArchINSTALLBUILDCHECKBUILD BIN
MSnbase 2.20.3  (landing page)
Laurent Gatto
git_last_commit: 760b1bb
git_last_commit_date: 2021-11-24 12:36:33 -0500
nebbiolo2Linux (Ubuntu 20.04.3 LTS) / x86_64  OK    OK    ERROR  
tokay2Windows Server 2012 R2 Standard / x64  OK    OK    ERROR    OK  
machv2macOS 10.14.6 Mojave / x86_64  OK    OK    ERROR    OK  
Package 10/16HostnameOS / ArchINSTALLBUILDCHECKBUILD BIN
MSPrep 1.4.0  (landing page)
Max McGrath
git_last_commit: 34c95d3
git_last_commit_date: 2021-10-26 13:03:21 -0500
nebbiolo2Linux (Ubuntu 20.04.3 LTS) / x86_64  OK    OK    OK  UNNEEDED, same version is already published
tokay2Windows Server 2012 R2 Standard / x64  OK    OK    OK    OK  UNNEEDED, same version is already published
machv2macOS 10.14.6 Mojave / x86_64  OK    OK    OK    OK  UNNEEDED, same version is already published
Package 11/16HostnameOS / ArchINSTALLBUILDCHECKBUILD BIN
OUTRIDER 1.12.0  (landing page)
Christian Mertes
git_last_commit: 2aa8599
git_last_commit_date: 2021-10-26 12:45:42 -0500
nebbiolo2Linux (Ubuntu 20.04.3 LTS) / x86_64  OK    OK    OK  UNNEEDED, same version is already published
tokay2Windows Server 2012 R2 Standard / x64  OK    OK    OK    OK  UNNEEDED, same version is already published
machv2macOS 10.14.6 Mojave / x86_64  OK    OK    OK    OK  UNNEEDED, same version is already published
Package 12/16HostnameOS / ArchINSTALLBUILDCHECKBUILD BIN
PanVizGenerator 1.22.0  (landing page)
Thomas Lin Pedersen
git_last_commit: dafc6c3
git_last_commit_date: 2021-10-26 12:24:48 -0500
nebbiolo2Linux (Ubuntu 20.04.3 LTS) / x86_64  ERROR    ERROR  skipped
tokay2Windows Server 2012 R2 Standard / x64  ERROR    ERROR  skippedskipped
machv2macOS 10.14.6 Mojave / x86_64  ERROR    ERROR  skippedskipped
Package 13/16HostnameOS / ArchINSTALLBUILDCHECKBUILD BIN
PhosR 1.4.0  (landing page)
Taiyun Kim
git_last_commit: 4366e01
git_last_commit_date: 2021-10-26 13:03:01 -0500
nebbiolo2Linux (Ubuntu 20.04.3 LTS) / x86_64  OK    OK    OK  UNNEEDED, same version is already published
tokay2Windows Server 2012 R2 Standard / x64  OK    OK    OK    OK  UNNEEDED, same version is already published
machv2macOS 10.14.6 Mojave / x86_64  OK    OK    OK    OK  UNNEEDED, same version is already published
Package 14/16HostnameOS / ArchINSTALLBUILDCHECKBUILD BIN
pmp 1.6.0  (landing page)
Gavin Rhys Lloyd
git_last_commit: c407dac
git_last_commit_date: 2021-10-26 12:56:52 -0500
nebbiolo2Linux (Ubuntu 20.04.3 LTS) / x86_64  OK    OK    OK  UNNEEDED, same version is already published
tokay2Windows Server 2012 R2 Standard / x64  OK    OK    OK    OK  UNNEEDED, same version is already published
machv2macOS 10.14.6 Mojave / x86_64  OK    OK    OK    OK  UNNEEDED, same version is already published
Package 15/16HostnameOS / ArchINSTALLBUILDCHECKBUILD BIN
scde 2.22.0  (landing page)
Jean Fan
git_last_commit: 527bac9
git_last_commit_date: 2021-10-26 12:23:43 -0500
nebbiolo2Linux (Ubuntu 20.04.3 LTS) / x86_64  OK    OK    WARNINGS  UNNEEDED, same version is already published
tokay2Windows Server 2012 R2 Standard / x64  OK    OK    WARNINGS    OK  UNNEEDED, same version is already published
machv2macOS 10.14.6 Mojave / x86_64  OK    OK    WARNINGS    OK  UNNEEDED, same version is already published
Package 16/16HostnameOS / ArchINSTALLBUILDCHECKBUILD BIN
SomaticSignatures 2.30.0  (landing page)
Julian Gehring
git_last_commit: 03f7ad7
git_last_commit_date: 2021-10-26 12:11:42 -0500
nebbiolo2Linux (Ubuntu 20.04.3 LTS) / x86_64  OK    OK    OK  UNNEEDED, same version is already published
tokay2Windows Server 2012 R2 Standard / x64  OK    OK    OK    OK  UNNEEDED, same version is already published
machv2macOS 10.14.6 Mojave / x86_64  OK    OK    OK    OK  UNNEEDED, same version is already published