![]() | Name | Last modified | Size | Description |
---|---|---|---|---|
![]() | Parent Directory | - | ||
![]() | install-summary.dcf | 14-Apr-2022 01:05 | 265 | |
![]() | buildsrc-summary.dcf | 14-Apr-2022 01:05 | 426 | |
![]() | checksrc-summary.dcf | 14-Apr-2022 01:05 | 436 | |
![]() | buildsrc-out.txt | 14-Apr-2022 01:05 | 818 | |
![]() | install-out.txt | 14-Apr-2022 01:05 | 956 | |
![]() | checksrc-out.txt | 14-Apr-2022 01:05 | 5.3K | |