Name | Last modified | Size | Description | |
---|---|---|---|---|
Parent Directory | - | |||
buildbin-out.txt | 14-Apr-2022 01:08 | 1.3K | ||
buildbin-summary.dcf | 14-Apr-2022 01:08 | 548 | ||
buildsrc-out.txt | 14-Apr-2022 01:08 | 891 | ||
buildsrc-summary.dcf | 14-Apr-2022 01:08 | 437 | ||
checksrc-out.txt | 14-Apr-2022 01:08 | 3.8K | ||
checksrc-summary.dcf | 14-Apr-2022 01:08 | 456 | ||
install-out.txt | 14-Apr-2022 01:08 | 1.1K | ||
install-summary.dcf | 14-Apr-2022 01:08 | 275 | ||