Name | Last modified | Size | Description | |
---|---|---|---|---|
Parent Directory | - | |||
checksrc-out.txt | 14-Apr-2022 01:07 | 4.7K | ||
install-out.txt | 14-Apr-2022 01:07 | 2.9K | ||
buildbin-out.txt | 14-Apr-2022 01:07 | 2.2K | ||
buildsrc-out.txt | 14-Apr-2022 01:07 | 910 | ||
install-summary.dcf | 14-Apr-2022 01:07 | 650 | ||
buildbin-summary.dcf | 14-Apr-2022 01:07 | 544 | ||
checksrc-summary.dcf | 14-Apr-2022 01:07 | 465 | ||
buildsrc-summary.dcf | 14-Apr-2022 01:07 | 461 | ||