Name | Last modified | Size | Description | |
---|---|---|---|---|
Parent Directory | - | |||
buildbin-out.txt | 14-Dec-2021 03:05 | 818K | ||
buildbin-summary.dcf | 14-Dec-2021 03:05 | 558 | ||
buildsrc-out.txt | 14-Apr-2022 01:07 | 406K | ||
buildsrc-summary.dcf | 14-Apr-2022 01:07 | 473 | ||
checksrc-out.txt | 14-Dec-2021 03:05 | 5.2K | ||
checksrc-summary.dcf | 14-Dec-2021 03:05 | 480 | ||
install-out.txt | 14-Apr-2022 01:07 | 413K | ||
install-summary.dcf | 14-Apr-2022 01:07 | 670 | ||