Name | Last modified | Size | Description | |
---|---|---|---|---|
Parent Directory | - | |||
buildbin-summary.dcf | 14-Apr-2022 01:06 | 536 | ||
buildbin-out.txt | 14-Apr-2022 01:06 | 1.7K | ||
checksrc-summary.dcf | 14-Apr-2022 01:06 | 460 | ||
checksrc-out.txt | 14-Apr-2022 01:06 | 4.1K | ||
buildsrc-summary.dcf | 14-Apr-2022 01:06 | 457 | ||
buildsrc-out.txt | 14-Apr-2022 01:06 | 844 | ||
install-summary.dcf | 14-Apr-2022 01:06 | 634 | ||
install-out.txt | 14-Apr-2022 01:06 | 2.4K | ||