Name | Last modified | Size | Description | |
---|---|---|---|---|
Parent Directory | - | |||
buildbin-summary.dcf | 14-Apr-2022 01:06 | 545 | ||
buildbin-out.txt | 14-Apr-2022 01:06 | 8.6K | ||
checksrc-summary.dcf | 14-Apr-2022 01:06 | 472 | ||
checksrc-out.txt | 14-Apr-2022 01:06 | 6.0K | ||
buildsrc-summary.dcf | 14-Apr-2022 01:06 | 461 | ||
buildsrc-out.txt | 14-Apr-2022 01:06 | 852 | ||
install-summary.dcf | 14-Apr-2022 01:06 | 650 | ||
install-out.txt | 14-Apr-2022 01:06 | 9.3K | ||