Name | Last modified | Size | Description | |
---|---|---|---|---|
Parent Directory | - | |||
buildbin-summary.dcf | 14-Apr-2022 01:06 | 560 | ||
buildbin-out.txt | 14-Apr-2022 01:06 | 2.6K | ||
checksrc-summary.dcf | 14-Apr-2022 01:06 | 476 | ||
checksrc-out.txt | 14-Apr-2022 01:06 | 4.5K | ||
buildsrc-out.txt | 14-Apr-2022 01:06 | 901 | ||
buildsrc-summary.dcf | 14-Apr-2022 01:06 | 473 | ||
install-summary.dcf | 14-Apr-2022 01:06 | 671 | ||
install-out.txt | 14-Apr-2022 01:06 | 3.5K | ||