Back to Multiple platform build/check report for BioC 3.14
ABCDEFGHIJKL[M]NOPQRSTUVWXYZ

This page was generated on 2021-12-03 13:04:29 -0500 (Fri, 03 Dec 2021).

All results for package motifStack

To the developers/maintainers of the motifStack package:
- Please allow up to 24 hours (and sometimes 48 hours) for your latest push to git@git.bioconductor.org:packages/motifStack.git to
reflect on this report. See How and When does the builder pull? When will my changes propagate? here for more information.
- Make sure to use the following settings in order to reproduce any error or warning you see on this page.

raw results

Package 1204/2083HostnameOS / ArchINSTALLBUILDCHECKBUILD BIN
motifStack 1.38.0  (landing page)
Jianhong Ou
Snapshot Date: 2021-12-02 01:55:06 -0500 (Thu, 02 Dec 2021)
git_url: https://git.bioconductor.org/packages/motifStack
git_branch: RELEASE_3_14
git_last_commit: 0c4bc16
git_last_commit_date: 2021-10-26 12:04:40 -0500 (Tue, 26 Oct 2021)
nebbiolo2Linux (Ubuntu 20.04.3 LTS) / x86_64  OK    OK    OK  UNNEEDED, same version is already published
tokay2Windows Server 2012 R2 Standard / x64  OK    OK    OK    OK  UNNEEDED, same version is already published
machv2macOS 10.14.6 Mojave / x86_64  OK    OK    OK    OK  UNNEEDED, same version is already published

Results for Bioconductor software packages that depend directly on package motifStack

QUICK STATSOS / ArchINSTALLBUILDCHECKBUILD BIN
nebbiolo2Linux (Ubuntu 20.04.3 LTS) / x86_64
006
006
0015
tokay2Windows Server 2012 R2 Standard / x64
006
006
0015
006
machv2macOS 10.14.6 Mojave / x86_64
006
006
0015
006
Package 1/6HostnameOS / ArchINSTALLBUILDCHECKBUILD BIN
ATACseqQC 1.18.0  (landing page)
Jianhong Ou
git_last_commit: eeaad0d
git_last_commit_date: 2021-10-26 12:35:11 -0500
nebbiolo2Linux (Ubuntu 20.04.3 LTS) / x86_64  OK    OK    OK  UNNEEDED, same version is already published
tokay2Windows Server 2012 R2 Standard / x64  OK    OK    OK    OK  UNNEEDED, same version is already published
machv2macOS 10.14.6 Mojave / x86_64  OK    OK    OK    OK  UNNEEDED, same version is already published
Package 2/6HostnameOS / ArchINSTALLBUILDCHECKBUILD BIN
atSNP 1.10.0  (landing page)
Sunyoung Shin
git_last_commit: b91e873
git_last_commit_date: 2021-10-26 12:49:31 -0500
nebbiolo2Linux (Ubuntu 20.04.3 LTS) / x86_64  OK    OK    OK  UNNEEDED, same version is already published
tokay2Windows Server 2012 R2 Standard / x64  OK    OK    OK    OK  UNNEEDED, same version is already published
machv2macOS 10.14.6 Mojave / x86_64  OK    OK    OK    OK  UNNEEDED, same version is already published
Package 3/6HostnameOS / ArchINSTALLBUILDCHECKBUILD BIN
dagLogo 1.32.0  (landing page)
Jianhong Ou
git_last_commit: 5a04a5f
git_last_commit_date: 2021-10-26 12:10:15 -0500
nebbiolo2Linux (Ubuntu 20.04.3 LTS) / x86_64  OK    OK    OK  UNNEEDED, same version is already published
tokay2Windows Server 2012 R2 Standard / x64  OK    OK    OK    OK  NO, package depends on 'UniProt.ws' which is not available
machv2macOS 10.14.6 Mojave / x86_64  OK    OK    OK    OK  UNNEEDED, same version is already published
Package 4/6HostnameOS / ArchINSTALLBUILDCHECKBUILD BIN
LowMACA 1.24.0  (landing page)
Stefano de Pretis , Giorgio Melloni
git_last_commit: b991ace
git_last_commit_date: 2021-10-26 12:19:33 -0500
nebbiolo2Linux (Ubuntu 20.04.3 LTS) / x86_64  OK    OK    OK  UNNEEDED, same version is already published
tokay2Windows Server 2012 R2 Standard / x64  OK    OK    OK    OK  UNNEEDED, same version is already published
machv2macOS 10.14.6 Mojave / x86_64  OK    OK    OK    OK  UNNEEDED, same version is already published
Package 5/6HostnameOS / ArchINSTALLBUILDCHECKBUILD BIN
motifbreakR 2.8.0  (landing page)
Simon Gert Coetzee
git_last_commit: 58931f1
git_last_commit_date: 2021-10-26 12:22:28 -0500
nebbiolo2Linux (Ubuntu 20.04.3 LTS) / x86_64  OK    OK    WARNINGS  UNNEEDED, same version is already published
tokay2Windows Server 2012 R2 Standard / x64  OK    OK    WARNINGS    OK  UNNEEDED, same version is already published
machv2macOS 10.14.6 Mojave / x86_64  OK    OK    WARNINGS    OK  UNNEEDED, same version is already published
Package 6/6HostnameOS / ArchINSTALLBUILDCHECKBUILD BIN
ribosomeProfilingQC 1.6.1  (landing page)
Jianhong Ou
git_last_commit: 7ab254d
git_last_commit_date: 2021-11-10 16:48:59 -0500
nebbiolo2Linux (Ubuntu 20.04.3 LTS) / x86_64  OK    OK    OK  UNNEEDED, same version is already published
tokay2Windows Server 2012 R2 Standard / x64  OK    OK    OK    OK  UNNEEDED, same version is already published
machv2macOS 10.14.6 Mojave / x86_64  OK    OK    OK    OK  UNNEEDED, same version is already published