Name | Last modified | Size | Description | |
---|---|---|---|---|
Parent Directory | - | |||
checksrc-out.txt | 14-Apr-2022 01:05 | 4.5K | ||
install-out.txt | 14-Apr-2022 01:05 | 2.0K | ||
buildsrc-out.txt | 14-Apr-2022 01:05 | 823 | ||
checksrc-summary.dcf | 14-Apr-2022 01:05 | 416 | ||
buildsrc-summary.dcf | 14-Apr-2022 01:05 | 407 | ||
install-summary.dcf | 14-Apr-2022 01:05 | 252 | ||