Name | Last modified | Size | Description | |
---|---|---|---|---|
Parent Directory | - | |||
buildsrc-summary.dcf | 14-Apr-2022 01:06 | 500 | ||
checksrc-summary.dcf | 14-Apr-2022 01:06 | 504 | ||
buildbin-summary.dcf | 14-Apr-2022 01:06 | 602 | ||
install-summary.dcf | 14-Apr-2022 01:06 | 734 | ||
buildsrc-out.txt | 14-Apr-2022 01:06 | 899 | ||
checksrc-out.txt | 14-Apr-2022 01:06 | 3.9K | ||
buildbin-out.txt | 14-Apr-2022 01:06 | 6.6K | ||
install-out.txt | 14-Apr-2022 01:06 | 7.4K | ||