Name | Last modified | Size | Description | |
---|---|---|---|---|
Parent Directory | - | |||
buildbin-out.txt | 14-Apr-2022 01:06 | 2.3K | ||
buildbin-summary.dcf | 14-Apr-2022 01:06 | 584 | ||
buildsrc-out.txt | 14-Apr-2022 01:06 | 921 | ||
buildsrc-summary.dcf | 14-Apr-2022 01:06 | 488 | ||
checksrc-out.txt | 14-Apr-2022 01:06 | 4.2K | ||
checksrc-summary.dcf | 14-Apr-2022 01:06 | 492 | ||
install-out.txt | 14-Apr-2022 01:06 | 3.1K | ||
install-summary.dcf | 14-Apr-2022 01:06 | 707 | ||