![]() | Name | Last modified | Size | Description |
---|---|---|---|---|
![]() | Parent Directory | - | ||
![]() | buildbin-summary.dcf | 14-Apr-2022 01:08 | 537 | |
![]() | buildbin-out.txt | 14-Apr-2022 01:08 | 1.2K | |
![]() | checksrc-summary.dcf | 14-Apr-2022 01:08 | 450 | |
![]() | checksrc-out.txt | 14-Apr-2022 01:08 | 3.3K | |
![]() | buildsrc-summary.dcf | 14-Apr-2022 01:08 | 432 | |
![]() | buildsrc-out.txt | 14-Apr-2022 01:08 | 823 | |
![]() | install-summary.dcf | 14-Apr-2022 01:08 | 272 | |
![]() | install-out.txt | 14-Apr-2022 01:08 | 1.0K | |