Index of /checkResults/3.14/bioc-LATEST/methylPipe/raw-results/tokay2
Name
Last modified
Size
Description
Parent Directory
-
install-out.txt
14-Apr-2022 01:06
5.1K
install-summary.dcf
14-Apr-2022 01:06
667
buildsrc-out.txt
14-Apr-2022 01:06
5.2K
buildsrc-summary.dcf
14-Apr-2022 01:06
383