Back to Multiple platform build/check report for BioC 3.14
ABCDEFGHIJKL[M]NOPQRSTUVWXYZ

This page was generated on 2022-01-21 13:05:22 -0500 (Fri, 21 Jan 2022).

HostnameOSArch (*)R versionInstalled pkgs
nebbiolo2Linux (Ubuntu 20.04.4 LTS)x86_644.1.2 (2021-11-01) -- "Bird Hippie" 4329
tokay2Windows Server 2012 R2 Standardx644.1.2 (2021-11-01) -- "Bird Hippie" 4079
machv2macOS 10.14.6 Mojavex86_644.1.2 (2021-11-01) -- "Bird Hippie" 4140
Click on any hostname to see more info about the system (e.g. compilers)      (*) as reported by 'uname -p', except on Windows and Mac OS X

CHECK results for metabolomicsWorkbenchR on nebbiolo2


To the developers/maintainers of the metabolomicsWorkbenchR package:
- Please allow up to 24 hours (and sometimes 48 hours) for your latest push to git@git.bioconductor.org:packages/metabolomicsWorkbenchR.git to
reflect on this report. See How and When does the builder pull? When will my changes propagate? here for more information.
- Make sure to use the following settings in order to reproduce any error or warning you see on this page.

raw results

Package 1092/2083HostnameOS / ArchINSTALLBUILDCHECKBUILD BIN
metabolomicsWorkbenchR 1.4.0  (landing page)
Gavin Rhys Lloyd
Snapshot Date: 2022-01-20 01:55:04 -0500 (Thu, 20 Jan 2022)
git_url: https://git.bioconductor.org/packages/metabolomicsWorkbenchR
git_branch: RELEASE_3_14
git_last_commit: e369ac1
git_last_commit_date: 2021-10-26 13:02:10 -0500 (Tue, 26 Oct 2021)
nebbiolo2Linux (Ubuntu 20.04.4 LTS) / x86_64  OK    OK    OK  UNNEEDED, same version is already published
tokay2Windows Server 2012 R2 Standard / x64  OK    OK    OK    OK  UNNEEDED, same version is already published
machv2macOS 10.14.6 Mojave / x86_64  OK    OK    OK    OK  UNNEEDED, same version is already published

Summary

Package: metabolomicsWorkbenchR
Version: 1.4.0
Command: /home/biocbuild/bbs-3.14-bioc/R/bin/R CMD check --install=check:metabolomicsWorkbenchR.install-out.txt --library=/home/biocbuild/bbs-3.14-bioc/R/library --no-vignettes --timings metabolomicsWorkbenchR_1.4.0.tar.gz
StartedAt: 2022-01-20 08:18:30 -0500 (Thu, 20 Jan 2022)
EndedAt: 2022-01-20 08:20:53 -0500 (Thu, 20 Jan 2022)
EllapsedTime: 142.8 seconds
RetCode: 0
Status:   OK  
CheckDir: metabolomicsWorkbenchR.Rcheck
Warnings: 0

Command output

##############################################################################
##############################################################################
###
### Running command:
###
###   /home/biocbuild/bbs-3.14-bioc/R/bin/R CMD check --install=check:metabolomicsWorkbenchR.install-out.txt --library=/home/biocbuild/bbs-3.14-bioc/R/library --no-vignettes --timings metabolomicsWorkbenchR_1.4.0.tar.gz
###
##############################################################################
##############################################################################


* using log directory ‘/home/biocbuild/bbs-3.14-bioc/meat/metabolomicsWorkbenchR.Rcheck’
* using R version 4.1.2 (2021-11-01)
* using platform: x86_64-pc-linux-gnu (64-bit)
* using session charset: UTF-8
* using option ‘--no-vignettes’
* checking for file ‘metabolomicsWorkbenchR/DESCRIPTION’ ... OK
* checking extension type ... Package
* this is package ‘metabolomicsWorkbenchR’ version ‘1.4.0’
* package encoding: UTF-8
* checking package namespace information ... OK
* checking package dependencies ... OK
* checking if this is a source package ... OK
* checking if there is a namespace ... OK
* checking for hidden files and directories ... OK
* checking for portable file names ... OK
* checking for sufficient/correct file permissions ... OK
* checking whether package ‘metabolomicsWorkbenchR’ can be installed ... OK
* checking installed package size ... OK
* checking package directory ... OK
* checking ‘build’ directory ... OK
* checking DESCRIPTION meta-information ... OK
* checking top-level files ... OK
* checking for left-over files ... OK
* checking index information ... OK
* checking package subdirectories ... OK
* checking R files for non-ASCII characters ... OK
* checking R files for syntax errors ... OK
* checking whether the package can be loaded ... OK
* checking whether the package can be loaded with stated dependencies ... OK
* checking whether the package can be unloaded cleanly ... OK
* checking whether the namespace can be loaded with stated dependencies ... OK
* checking whether the namespace can be unloaded cleanly ... OK
* checking dependencies in R code ... OK
* checking S3 generic/method consistency ... OK
* checking replacement functions ... OK
* checking foreign function calls ... OK
* checking R code for possible problems ... OK
* checking Rd files ... OK
* checking Rd metadata ... OK
* checking Rd cross-references ... OK
* checking for missing documentation entries ... OK
* checking for code/documentation mismatches ... OK
* checking Rd \usage sections ... OK
* checking Rd contents ... OK
* checking for unstated dependencies in examples ... OK
* checking R/sysdata.rda ... OK
* checking files in ‘vignettes’ ... OK
* checking examples ... OK
* checking for unstated dependencies in ‘tests’ ... OK
* checking tests ...
  Running ‘testthat.R’
 OK
* checking for unstated dependencies in vignettes ... OK
* checking package vignettes in ‘inst/doc’ ... OK
* checking running R code from vignettes ... SKIPPED
* checking re-building of vignette outputs ... SKIPPED
* checking PDF version of manual ... OK
* DONE

Status: OK


Installation output

metabolomicsWorkbenchR.Rcheck/00install.out

##############################################################################
##############################################################################
###
### Running command:
###
###   /home/biocbuild/bbs-3.14-bioc/R/bin/R CMD INSTALL metabolomicsWorkbenchR
###
##############################################################################
##############################################################################


* installing to library ‘/home/biocbuild/bbs-3.14-bioc/R/library’
* installing *source* package ‘metabolomicsWorkbenchR’ ...
** using staged installation
** R
** byte-compile and prepare package for lazy loading
** help
*** installing help indices
** building package indices
** installing vignettes
** testing if installed package can be loaded from temporary location
** testing if installed package can be loaded from final location
** testing if installed package keeps a record of temporary installation path
* DONE (metabolomicsWorkbenchR)

Tests output

metabolomicsWorkbenchR.Rcheck/tests/testthat.Rout


R version 4.1.2 (2021-11-01) -- "Bird Hippie"
Copyright (C) 2021 The R Foundation for Statistical Computing
Platform: x86_64-pc-linux-gnu (64-bit)

R is free software and comes with ABSOLUTELY NO WARRANTY.
You are welcome to redistribute it under certain conditions.
Type 'license()' or 'licence()' for distribution details.

R is a collaborative project with many contributors.
Type 'contributors()' for more information and
'citation()' on how to cite R or R packages in publications.

Type 'demo()' for some demos, 'help()' for on-line help, or
'help.start()' for an HTML browser interface to help.
Type 'q()' to quit R.

> library(testthat)
> library(metabolomicsWorkbenchR)
> 
> test_check("metabolomicsWorkbenchR")
[1] "https://www.metabolomicsworkbench.org/rest/study/study_id/ST000001/summary"
[1] "TEST mode"
[1] "https://www.metabolomicsworkbench.org/rest/moverz/MB/635.52/M+H/0.5"
[1] "TEST mode"
[1] "https://www.metabolomicsworkbench.org/rest/exactmass/PC(34:1)/M+H"
[1] "TEST mode"
[1] "https://www.metabolomicsworkbench.org/rest/study/study_id/ST000001/data"
[1] "TEST mode"
[1] "https://www.metabolomicsworkbench.org/rest/study/study_id/ST000001/summary"
[1] "TEST mode"
[1] "https://www.metabolomicsworkbench.org/rest/study/study_id/ST000001/factors"
[1] "TEST mode"
[1] "https://www.metabolomicsworkbench.org/rest/study/analysis_id/AN000023/datatable"
[1] "TEST mode"
[1] "https://www.metabolomicsworkbench.org/rest/study/analysis_id/AN000023/datatable"
[1] "TEST mode"
[1] "https://www.metabolomicsworkbench.org/rest/study/study_id/ST000001/data"
[1] "TEST mode"
[1] "https://www.metabolomicsworkbench.org/rest/study/study_id/ST000001/summary"
[1] "TEST mode"
[1] "https://www.metabolomicsworkbench.org/rest/study/study_id/ST000001/factors"
[1] "TEST mode"
[1] "https://www.metabolomicsworkbench.org/rest/study/study_id/ST000001/summary"
[1] "TEST mode"
[1] "https://www.metabolomicsworkbench.org/rest/study/analysis_id/AN000023/datatable"
[1] "TEST mode"
[1] "https://www.metabolomicsworkbench.org/rest/study/analysis_id/AN000023/untarg_data"
[1] "TEST mode"
[1] "https://www.metabolomicsworkbench.org/rest/study/analysis_id/AN000023/untarg_factors"
[1] "TEST mode"
[1] "https://www.metabolomicsworkbench.org/rest/study/study_id/ST000001/data"
[1] "TEST mode"
[1] "https://www.metabolomicsworkbench.org/rest/study/study_id/ST000001/summary"
[1] "TEST mode"
[1] "https://www.metabolomicsworkbench.org/rest/study/study_id/ST000001/factors"
[1] "TEST mode"
A Metabolomics Workbench "input_item"

Name:	"study_id"

Exact pattern matching:
	"^ST[0-9]{6}$"

Partial pattern matching:
	"^S(T[0-9]{0,6})?$"

Examples: 
	"ST000001"
	"ST"

[ FAIL 0 | WARN 0 | SKIP 0 | PASS 119 ]
> 
> proc.time()
   user  system elapsed 
 14.566   1.144  15.698 

Example timings

metabolomicsWorkbenchR.Rcheck/metabolomicsWorkbenchR-Ex.timings

nameusersystemelapsed
check_pattern0.0010.0000.002
check_puts0.0000.0040.004
context0.0000.0000.001
context_inputs0.0010.0000.001
context_outputs0.0000.0000.001
do_query000
input_example0.0000.0000.001
input_item0.0000.0000.001
is_valid0.0010.0000.000
mw_base000
output_item0.0010.0000.000