Back to Multiple platform build/check report for BioC 3.14
ABCDEFGHIJKL[M]NOPQRSTUVWXYZ

This page was generated on 2021-11-24 15:04:41 -0500 (Wed, 24 Nov 2021).

All results for package marray

To the developers/maintainers of the marray package:
- Please allow up to 24 hours (and sometimes 48 hours) for your latest push to git@git.bioconductor.org:packages/marray.git to
reflect on this report. See How and When does the builder pull? When will my changes propagate? here for more information.
- Make sure to use the following settings in order to reproduce any error or warning you see on this page.

raw results

Package 1047/2083HostnameOS / ArchINSTALLBUILDCHECKBUILD BIN
marray 1.72.0  (landing page)
Yee Hwa (Jean) Yang
Snapshot Date: 2021-11-23 04:15:06 -0500 (Tue, 23 Nov 2021)
git_url: https://git.bioconductor.org/packages/marray
git_branch: RELEASE_3_14
git_last_commit: da35e8b
git_last_commit_date: 2021-10-26 11:46:54 -0500 (Tue, 26 Oct 2021)
nebbiolo2Linux (Ubuntu 20.04.3 LTS) / x86_64  OK    OK    OK  UNNEEDED, same version is already published
tokay2Windows Server 2012 R2 Standard / x64  OK    OK    OK    OK  UNNEEDED, same version is already published
machv2macOS 10.14.6 Mojave / x86_64  OK    OK    OK    OK  UNNEEDED, same version is already published

Results for Bioconductor software packages that depend directly on package marray

QUICK STATSOS / ArchINSTALLBUILDCHECKBUILD BIN
nebbiolo2Linux (Ubuntu 20.04.3 LTS) / x86_64
0017
0116
00412
tokay2Windows Server 2012 R2 Standard / x64
0017
0116
01411
0016
machv2macOS 10.14.6 Mojave / x86_64
0017
0116
01312
0016
Package 1/17HostnameOS / ArchINSTALLBUILDCHECKBUILD BIN
arrayQuality 1.72.0  (landing page)
Agnes Paquet
git_last_commit: 38af9ec
git_last_commit_date: 2021-10-26 11:46:46 -0500
nebbiolo2Linux (Ubuntu 20.04.3 LTS) / x86_64  OK    OK    WARNINGS  UNNEEDED, same version is already published
tokay2Windows Server 2012 R2 Standard / x64  OK    OK    WARNINGS    OK  UNNEEDED, same version is already published
machv2macOS 10.14.6 Mojave / x86_64  OK    OK    WARNINGS    OK  UNNEEDED, same version is already published
Package 2/17HostnameOS / ArchINSTALLBUILDCHECKBUILD BIN
CGHbase 1.54.0  (landing page)
Mark van de Wiel
git_last_commit: 88afa50
git_last_commit_date: 2021-10-26 11:52:24 -0500
nebbiolo2Linux (Ubuntu 20.04.3 LTS) / x86_64  OK    OK    OK  UNNEEDED, same version is already published
tokay2Windows Server 2012 R2 Standard / x64  OK    OK    OK    OK  UNNEEDED, same version is already published
machv2macOS 10.14.6 Mojave / x86_64  OK    OK    OK    OK  UNNEEDED, same version is already published
Package 3/17HostnameOS / ArchINSTALLBUILDCHECKBUILD BIN
ChAMP 2.24.0  (landing page)
Yuan Tian
git_last_commit: 7ba19da
git_last_commit_date: 2021-10-26 12:10:42 -0500
nebbiolo2Linux (Ubuntu 20.04.3 LTS) / x86_64  OK    OK    WARNINGS  UNNEEDED, same version is already published
tokay2Windows Server 2012 R2 Standard / x64  OK    OK    WARNINGS    OK  NO, package depends on 'DMRcate' which is not available
machv2macOS 10.14.6 Mojave / x86_64  OK    OK    WARNINGS    OK  NO, package depends on 'DMRcate' which is not available
Package 4/17HostnameOS / ArchINSTALLBUILDCHECKBUILD BIN
convert 1.70.0  (landing page)
Yee Hwa (Jean) Yang
git_last_commit: 42fef35
git_last_commit_date: 2021-10-26 11:46:57 -0500
nebbiolo2Linux (Ubuntu 20.04.3 LTS) / x86_64  OK    OK    OK  UNNEEDED, same version is already published
tokay2Windows Server 2012 R2 Standard / x64  OK    OK    OK    OK  UNNEEDED, same version is already published
machv2macOS 10.14.6 Mojave / x86_64  OK    OK    OK    OK  UNNEEDED, same version is already published
Package 5/17HostnameOS / ArchINSTALLBUILDCHECKBUILD BIN
dyebias 1.54.0  (landing page)
Philip Lijnzaad
git_last_commit: 4b9e833
git_last_commit_date: 2021-10-26 11:53:45 -0500
nebbiolo2Linux (Ubuntu 20.04.3 LTS) / x86_64  OK    OK    OK  UNNEEDED, same version is already published
tokay2Windows Server 2012 R2 Standard / x64  OK    OK    OK    OK  UNNEEDED, same version is already published
machv2macOS 10.14.6 Mojave / x86_64  OK    OK    OK    OK  UNNEEDED, same version is already published
Package 6/17HostnameOS / ArchINSTALLBUILDCHECKBUILD BIN
maigesPack 1.58.0  (landing page)
Gustavo H. Esteves
git_last_commit: 455a3b6
git_last_commit_date: 2021-10-26 11:51:38 -0500
nebbiolo2Linux (Ubuntu 20.04.3 LTS) / x86_64  OK    OK    OK  UNNEEDED, same version is already published
tokay2Windows Server 2012 R2 Standard / x64  OK    OK    OK    OK  UNNEEDED, same version is already published
machv2macOS 10.14.6 Mojave / x86_64  OK    OK    OK    OK  UNNEEDED, same version is already published
Package 7/17HostnameOS / ArchINSTALLBUILDCHECKBUILD BIN
methylPipe 1.28.0  (landing page)
Kamal Kishore
git_last_commit: 34972d4
git_last_commit_date: 2021-10-26 12:15:34 -0500
nebbiolo2Linux (Ubuntu 20.04.3 LTS) / x86_64  OK    ERROR  skipped
tokay2Windows Server 2012 R2 Standard / x64  OK    ERROR  skippedskipped
machv2macOS 10.14.6 Mojave / x86_64  OK    ERROR  skippedskipped
Package 8/17HostnameOS / ArchINSTALLBUILDCHECKBUILD BIN
MineICA 1.34.0  (landing page)
Anne Biton
git_last_commit: 602994d
git_last_commit_date: 2021-10-26 12:06:44 -0500
nebbiolo2Linux (Ubuntu 20.04.3 LTS) / x86_64  OK    OK    WARNINGS  UNNEEDED, same version is already published
tokay2Windows Server 2012 R2 Standard / x64  OK    OK    WARNINGS    OK  UNNEEDED, same version is already published
machv2macOS 10.14.6 Mojave / x86_64  OK    OK    WARNINGS    OK  UNNEEDED, same version is already published
Package 9/17HostnameOS / ArchINSTALLBUILDCHECKBUILD BIN
MSstats 4.2.0  (landing page)
Meena Choi
git_last_commit: e67107f
git_last_commit_date: 2021-10-26 12:10:29 -0500
nebbiolo2Linux (Ubuntu 20.04.3 LTS) / x86_64  OK    OK    OK  UNNEEDED, same version is already published
tokay2Windows Server 2012 R2 Standard / x64  OK    OK    ERROR    OK  
machv2macOS 10.14.6 Mojave / x86_64  OK    OK    ERROR    OK  
Package 10/17HostnameOS / ArchINSTALLBUILDCHECKBUILD BIN
nnNorm 2.58.0  (landing page)
Adi Laurentiu Tarca
git_last_commit: 746510a
git_last_commit_date: 2021-10-26 11:47:14 -0500
nebbiolo2Linux (Ubuntu 20.04.3 LTS) / x86_64  OK    OK    OK  UNNEEDED, same version is already published
tokay2Windows Server 2012 R2 Standard / x64  OK    OK    OK    OK  UNNEEDED, same version is already published
machv2macOS 10.14.6 Mojave / x86_64  OK    OK    OK    OK  UNNEEDED, same version is already published
Package 11/17HostnameOS / ArchINSTALLBUILDCHECKBUILD BIN
OLIN 1.72.0  (landing page)
Matthias Futschik
git_last_commit: 039cf2e
git_last_commit_date: 2021-10-26 11:47:10 -0500
nebbiolo2Linux (Ubuntu 20.04.3 LTS) / x86_64  OK    OK    OK  UNNEEDED, same version is already published
tokay2Windows Server 2012 R2 Standard / x64  OK    OK    OK    OK  UNNEEDED, same version is already published
machv2macOS 10.14.6 Mojave / x86_64  OK    OK    OK    OK  UNNEEDED, same version is already published
Package 12/17HostnameOS / ArchINSTALLBUILDCHECKBUILD BIN
OLINgui 1.68.0  (landing page)
Matthias Futschik
git_last_commit: 82f8574
git_last_commit_date: 2021-10-26 11:47:24 -0500
nebbiolo2Linux (Ubuntu 20.04.3 LTS) / x86_64  OK    OK    OK  UNNEEDED, same version is already published
tokay2Windows Server 2012 R2 Standard / x64  OK    OK    OK    OK  UNNEEDED, same version is already published
machv2macOS 10.14.6 Mojave / x86_64  OK    OK    OK    OK  UNNEEDED, same version is already published
Package 13/17HostnameOS / ArchINSTALLBUILDCHECKBUILD BIN
piano 2.10.0  (landing page)
Leif Varemo Wigge
git_last_commit: 60ac74a
git_last_commit_date: 2021-10-26 12:07:50 -0500
nebbiolo2Linux (Ubuntu 20.04.3 LTS) / x86_64  OK    OK    WARNINGS  UNNEEDED, same version is already published
tokay2Windows Server 2012 R2 Standard / x64  OK    OK    WARNINGS    OK  UNNEEDED, same version is already published
machv2macOS 10.14.6 Mojave / x86_64  OK    OK    OK    OK  UNNEEDED, same version is already published
Package 14/17HostnameOS / ArchINSTALLBUILDCHECKBUILD BIN
RBM 1.26.0  (landing page)
Dongmei Li
git_last_commit: 5e37925
git_last_commit_date: 2021-10-26 12:19:37 -0500
nebbiolo2Linux (Ubuntu 20.04.3 LTS) / x86_64  OK    OK    OK  UNNEEDED, same version is already published
tokay2Windows Server 2012 R2 Standard / x64  OK    OK    OK    OK  UNNEEDED, same version is already published
machv2macOS 10.14.6 Mojave / x86_64  OK    OK    OK    OK  UNNEEDED, same version is already published
Package 15/17HostnameOS / ArchINSTALLBUILDCHECKBUILD BIN
stepNorm 1.66.0  (landing page)
Yuanyuan Xiao
git_last_commit: 1417ae5
git_last_commit_date: 2021-10-26 11:47:25 -0500
nebbiolo2Linux (Ubuntu 20.04.3 LTS) / x86_64  OK    OK    OK  UNNEEDED, same version is already published
tokay2Windows Server 2012 R2 Standard / x64  OK    OK    OK    OK  UNNEEDED, same version is already published
machv2macOS 10.14.6 Mojave / x86_64  OK    OK    OK    OK  UNNEEDED, same version is already published
Package 16/17HostnameOS / ArchINSTALLBUILDCHECKBUILD BIN
timecourse 1.66.0  (landing page)
Yu Chuan Tai
git_last_commit: a54fe59
git_last_commit_date: 2021-10-26 11:48:31 -0500
nebbiolo2Linux (Ubuntu 20.04.3 LTS) / x86_64  OK    OK    OK  UNNEEDED, same version is already published
tokay2Windows Server 2012 R2 Standard / x64  OK    OK    OK    OK  UNNEEDED, same version is already published
machv2macOS 10.14.6 Mojave / x86_64  OK    OK    OK    OK  UNNEEDED, same version is already published
Package 17/17HostnameOS / ArchINSTALLBUILDCHECKBUILD BIN
TurboNorm 1.42.0  (landing page)
Maarten van Iterson
git_last_commit: 8ebd6b0
git_last_commit_date: 2021-10-26 11:57:45 -0500
nebbiolo2Linux (Ubuntu 20.04.3 LTS) / x86_64  OK    OK    OK  UNNEEDED, same version is already published
tokay2Windows Server 2012 R2 Standard / x64  OK    OK    OK    OK  UNNEEDED, same version is already published
machv2macOS 10.14.6 Mojave / x86_64  OK    OK    OK    OK  UNNEEDED, same version is already published