Name | Last modified | Size | Description | |
---|---|---|---|---|
Parent Directory | - | |||
install-summary.dcf | 14-Apr-2022 01:08 | 275 | ||
buildsrc-summary.dcf | 14-Apr-2022 01:08 | 436 | ||
checksrc-summary.dcf | 14-Apr-2022 01:08 | 470 | ||
buildbin-summary.dcf | 14-Apr-2022 01:08 | 548 | ||
buildsrc-out.txt | 14-Apr-2022 01:08 | 921 | ||
install-out.txt | 14-Apr-2022 01:08 | 2.3K | ||
buildbin-out.txt | 14-Apr-2022 01:08 | 3.2K | ||
checksrc-out.txt | 14-Apr-2022 01:08 | 7.0K | ||