Name | Last modified | Size | Description | |
---|---|---|---|---|
Parent Directory | - | |||
buildbin-out.txt | 14-Apr-2022 01:06 | 7.5K | ||
buildbin-summary.dcf | 14-Apr-2022 01:06 | 547 | ||
buildsrc-out.txt | 14-Apr-2022 01:06 | 920 | ||
buildsrc-summary.dcf | 14-Apr-2022 01:06 | 464 | ||
checksrc-out.txt | 14-Apr-2022 01:06 | 83K | ||
checksrc-summary.dcf | 14-Apr-2022 01:06 | 468 | ||
install-out.txt | 14-Apr-2022 01:06 | 8.4K | ||
install-summary.dcf | 14-Apr-2022 01:06 | 656 | ||