Name | Last modified | Size | Description | |
---|---|---|---|---|
Parent Directory | - | |||
buildbin-out.txt | 14-Apr-2022 01:08 | 437K | ||
buildbin-summary.dcf | 14-Apr-2022 01:08 | 549 | ||
buildsrc-out.txt | 14-Apr-2022 01:08 | 906 | ||
buildsrc-summary.dcf | 14-Apr-2022 01:08 | 437 | ||
checksrc-out.txt | 14-Apr-2022 01:08 | 4.8K | ||
checksrc-summary.dcf | 14-Apr-2022 01:08 | 455 | ||
install-out.txt | 14-Apr-2022 01:08 | 410K | ||
install-summary.dcf | 14-Apr-2022 01:08 | 276 | ||