Name | Last modified | Size | Description | |
---|---|---|---|---|
Parent Directory | - | |||
buildbin-summary.dcf | 14-Apr-2022 01:06 | 527 | ||
buildbin-out.txt | 14-Apr-2022 01:06 | 12K | ||
checksrc-summary.dcf | 14-Apr-2022 01:06 | 454 | ||
checksrc-out.txt | 14-Apr-2022 01:06 | 4.8K | ||
buildsrc-summary.dcf | 14-Apr-2022 01:06 | 450 | ||
buildsrc-out.txt | 14-Apr-2022 01:06 | 900 | ||
install-summary.dcf | 14-Apr-2022 01:06 | 623 | ||
install-out.txt | 14-Apr-2022 01:06 | 13K | ||