Name | Last modified | Size | Description | |
---|---|---|---|---|
Parent Directory | - | |||
buildbin-out.txt | 14-Apr-2022 01:06 | 4.1K | ||
buildbin-summary.dcf | 14-Apr-2022 01:06 | 524 | ||
buildsrc-out.txt | 14-Apr-2022 01:06 | 926 | ||
buildsrc-summary.dcf | 14-Apr-2022 01:06 | 448 | ||
checksrc-out.txt | 14-Apr-2022 01:06 | 6.6K | ||
checksrc-summary.dcf | 14-Apr-2022 01:06 | 456 | ||
install-out.txt | 14-Apr-2022 01:06 | 4.8K | ||
install-summary.dcf | 14-Apr-2022 01:06 | 616 | ||