Name | Last modified | Size | Description | |
---|---|---|---|---|
Parent Directory | - | |||
buildsrc-out.txt | 14-Apr-2022 01:05 | 890 | ||
buildsrc-summary.dcf | 14-Apr-2022 01:05 | 409 | ||
checksrc-out.txt | 14-Apr-2022 01:05 | 4.0K | ||
checksrc-summary.dcf | 14-Apr-2022 01:05 | 413 | ||
install-out.txt | 14-Apr-2022 01:05 | 1.9K | ||
install-summary.dcf | 14-Apr-2022 01:05 | 254 | ||