Name | Last modified | Size | Description | |
---|---|---|---|---|
Parent Directory | - | |||
buildsrc-summary.dcf | 14-Apr-2022 01:06 | 450 | ||
checksrc-summary.dcf | 14-Apr-2022 01:06 | 453 | ||
buildbin-summary.dcf | 14-Apr-2022 01:06 | 527 | ||
install-summary.dcf | 14-Apr-2022 01:06 | 622 | ||
buildsrc-out.txt | 14-Apr-2022 01:06 | 1.1K | ||
buildbin-out.txt | 14-Apr-2022 01:06 | 3.5K | ||
checksrc-out.txt | 14-Apr-2022 01:06 | 4.0K | ||
install-out.txt | 14-Apr-2022 01:06 | 4.3K | ||