Name | Last modified | Size | Description | |
---|---|---|---|---|
Parent Directory | - | |||
install-out.txt | 14-Apr-2022 01:06 | 2.4K | ||
install-summary.dcf | 14-Apr-2022 01:06 | 667 | ||
buildsrc-out.txt | 14-Apr-2022 01:06 | 786 | ||
buildsrc-summary.dcf | 14-Apr-2022 01:06 | 469 | ||
checksrc-out.txt | 14-Apr-2022 01:06 | 3.3K | ||
checksrc-summary.dcf | 14-Apr-2022 01:06 | 473 | ||
buildbin-out.txt | 14-Apr-2022 01:06 | 1.8K | ||
buildbin-summary.dcf | 14-Apr-2022 01:06 | 557 | ||