Name | Last modified | Size | Description | |
---|---|---|---|---|
Parent Directory | - | |||
install-summary.dcf | 14-Apr-2022 01:05 | 264 | ||
buildsrc-summary.dcf | 14-Apr-2022 01:05 | 424 | ||
checksrc-summary.dcf | 14-Apr-2022 01:05 | 435 | ||
buildsrc-out.txt | 14-Apr-2022 01:05 | 746 | ||
install-out.txt | 14-Apr-2022 01:05 | 932 | ||
checksrc-out.txt | 14-Apr-2022 01:05 | 2.7K | ||