Name | Last modified | Size | Description | |
---|---|---|---|---|
Parent Directory | - | |||
buildbin-out.txt | 14-Apr-2022 01:08 | 1.1K | ||
buildbin-summary.dcf | 14-Apr-2022 01:08 | 545 | ||
buildsrc-out.txt | 14-Apr-2022 01:08 | 756 | ||
buildsrc-summary.dcf | 14-Apr-2022 01:08 | 435 | ||
checksrc-out.txt | 14-Apr-2022 01:08 | 2.7K | ||
checksrc-summary.dcf | 14-Apr-2022 01:08 | 455 | ||
install-out.txt | 14-Apr-2022 01:08 | 965 | ||
install-summary.dcf | 14-Apr-2022 01:08 | 274 | ||